
BEGIN:VCALENDAR
VERSION:2.0
PRODID:-//The Clifton Club - ECPv6.15.20//NONSGML v1.0//EN
CALSCALE:GREGORIAN
METHOD:PUBLISH
X-WR-CALNAME:The Clifton Club
X-ORIGINAL-URL:https://cliftonclub.com
X-WR-CALDESC:Events for The Clifton Club
REFRESH-INTERVAL;VALUE=DURATION:PT1H
X-Robots-Tag:noindex
X-PUBLISHED-TTL:PT1H
BEGIN:VTIMEZONE
TZID:America/New_York
BEGIN:DAYLIGHT
TZOFFSETFROM:-0500
TZOFFSETTO:-0400
TZNAME:EDT
DTSTART:20230312T070000
END:DAYLIGHT
BEGIN:STANDARD
TZOFFSETFROM:-0400
TZOFFSETTO:-0500
TZNAME:EST
DTSTART:20231105T060000
END:STANDARD
BEGIN:DAYLIGHT
TZOFFSETFROM:-0500
TZOFFSETTO:-0400
TZNAME:EDT
DTSTART:20240310T070000
END:DAYLIGHT
BEGIN:STANDARD
TZOFFSETFROM:-0400
TZOFFSETTO:-0500
TZNAME:EST
DTSTART:20241103T060000
END:STANDARD
BEGIN:DAYLIGHT
TZOFFSETFROM:-0500
TZOFFSETTO:-0400
TZNAME:EDT
DTSTART:20250309T070000
END:DAYLIGHT
BEGIN:STANDARD
TZOFFSETFROM:-0400
TZOFFSETTO:-0500
TZNAME:EST
DTSTART:20251102T060000
END:STANDARD
BEGIN:DAYLIGHT
TZOFFSETFROM:-0500
TZOFFSETTO:-0400
TZNAME:EDT
DTSTART:20260308T070000
END:DAYLIGHT
BEGIN:STANDARD
TZOFFSETFROM:-0400
TZOFFSETTO:-0500
TZNAME:EST
DTSTART:20261101T060000
END:STANDARD
END:VTIMEZONE
BEGIN:VEVENT
DTSTART;TZID=America/New_York:20241127T080000
DTEND;TZID=America/New_York:20241127T170000
DTSTAMP:20260425T063315
CREATED:20241030T015925Z
LAST-MODIFIED:20241030T015949Z
UID:10026799-1732694400-1732726800@cliftonclub.com
SUMMARY:TCC Family Night
DESCRIPTION:Bring your kids to TCC to enjoy sweet treats and $2 off all kids meals!
URL:https://cliftonclub.com/event/tcc-family-night-nov-2024/2024-11-27/
END:VEVENT
BEGIN:VEVENT
DTSTART;TZID=America/New_York:20241128T130000
DTEND;TZID=America/New_York:20241128T160000
DTSTAMP:20260425T063315
CREATED:20241024T134837Z
LAST-MODIFIED:20241024T134837Z
UID:10026531-1732798800-1732809600@cliftonclub.com
SUMMARY:TCC Thanksgiving Holiday Buffet
DESCRIPTION:Happy Thanksgiving! Make reservations to join us for our Thanksgiving Buffet from 1-4PM! (Last Seating is 3:00 PM) \nMenu:\nHarvest Table with Artisan Breads\, Smoked Salmon Display\, Roasted Butternut Squash Bisque\, Apple & Cranberry Salad\, Roasted Local Amish Turkey\, C.A.B. NY Sirloin\, Country Style Stuffing\, Garlic Mashed Potatoes\, Sweet Potato Mash\, Haricot Vert Casserole\, Four Cheese Mac & Cheese\, Maple Glazed Heirloom Carrots & Ratatouille \nHouse Made Holiday Pies & Dessert Display \nAdults $46.95 ~ Children $17.95 {10 and under} \nReservations Required ~ 48 Hour Cancellation Policy \nCall (216) 521-3051 or email cliftonclub@cliftonclub.com
URL:https://cliftonclub.com/event/tcc-thanksgiving-holiday-buffet-2024/
ATTACH;FMTTYPE=image/gif:https://cliftonclub.com/wp-content/uploads/2017/10/thanksgiving.gif
END:VEVENT
BEGIN:VEVENT
DTSTART;TZID=America/New_York:20241129T170000
DTEND;TZID=America/New_York:20241129T190000
DTSTAMP:20260425T063315
CREATED:20241030T015733Z
LAST-MODIFIED:20241030T122942Z
UID:10026537-1732899600-1732906800@cliftonclub.com
SUMMARY:Happy Hour + Live Music!
DESCRIPTION:Join us for Happy Hour at TCC from 5-7pm with Live Music!
URL:https://cliftonclub.com/event/happy-hour-live-music-november-2024/2024-11-29/
END:VEVENT
BEGIN:VEVENT
DTSTART;VALUE=DATE:20241130
DTEND;VALUE=DATE:20241201
DTSTAMP:20260425T063315
CREATED:20241030T020253Z
LAST-MODIFIED:20241030T020253Z
UID:10026806-1732953600-1732986000@cliftonclub.com
SUMMARY:Club Closed for Member Dining
DESCRIPTION:
URL:https://cliftonclub.com/event/club-closed-for-member-dining-nov-2024/2024-11-30/
END:VEVENT
BEGIN:VEVENT
DTSTART;TZID=America/New_York:20241201T110000
DTEND;TZID=America/New_York:20241201T140000
DTSTAMP:20260425T063315
CREATED:20241119T133747Z
LAST-MODIFIED:20241119T133747Z
UID:10026821-1733050800-1733061600@cliftonclub.com
SUMMARY:Sunday Brunch
DESCRIPTION:
URL:https://cliftonclub.com/event/sunday-brunch-december-2024/2024-12-01/
END:VEVENT
BEGIN:VEVENT
DTSTART;TZID=America/New_York:20241201T170000
DTEND;TZID=America/New_York:20241201T200000
DTSTAMP:20260425T063315
CREATED:20241119T133817Z
LAST-MODIFIED:20241119T133843Z
UID:10026827-1733072400-1733083200@cliftonclub.com
SUMMARY:Sunday Dinner
DESCRIPTION:
URL:https://cliftonclub.com/event/sunday-dinner-december-2024/2024-12-01/
END:VEVENT
BEGIN:VEVENT
DTSTART;TZID=America/New_York:20241204T170000
DTEND;TZID=America/New_York:20241204T210000
DTSTAMP:20260425T063315
CREATED:20241119T133949Z
LAST-MODIFIED:20241119T134023Z
UID:10026834-1733331600-1733346000@cliftonclub.com
SUMMARY:TCC Family Night with Flower Clown the Balloon Twister!
DESCRIPTION:Bring your kids to TCC to enjoy sweet treats and $2 off all kids meals…plus Flower Clown the balloon twister!
URL:https://cliftonclub.com/event/tcc-family-night-with-flower-clown-the-balloon-twister/2024-12-04/
END:VEVENT
BEGIN:VEVENT
DTSTART;TZID=America/New_York:20241205T170000
DTEND;TZID=America/New_York:20241205T210000
DTSTAMP:20260425T063315
CREATED:20241119T134152Z
LAST-MODIFIED:20241119T134152Z
UID:10026837-1733418000-1733432400@cliftonclub.com
SUMMARY:Pizza Night
DESCRIPTION:Come enjoy some great pizza preparations!
URL:https://cliftonclub.com/event/pizza-night-dec-2024/
END:VEVENT
BEGIN:VEVENT
DTSTART;TZID=America/New_York:20241206T170000
DTEND;TZID=America/New_York:20241206T190000
DTSTAMP:20260425T063315
CREATED:20241119T134405Z
LAST-MODIFIED:20241119T134513Z
UID:10026848-1733504400-1733511600@cliftonclub.com
SUMMARY:Happy Hour + Live Music!
DESCRIPTION:Join us for Happy Hour at TCC from 5-7pm with Live Music!
URL:https://cliftonclub.com/event/happy-hour-live-music-dec-2024/2024-12-06/
END:VEVENT
BEGIN:VEVENT
DTSTART;TZID=America/New_York:20241207T163000
DTEND;TZID=America/New_York:20241207T193000
DTSTAMP:20260425T063315
CREATED:20241119T134554Z
LAST-MODIFIED:20241119T134554Z
UID:10026852-1733589000-1733599800@cliftonclub.com
SUMMARY:TCC To Go Service (4:30PM-7:30PM)
DESCRIPTION:Enjoy TCC To Go Service from 4:3oPM-7:30PM!
URL:https://cliftonclub.com/event/tcc-to-go-service-430pm-730pm/
END:VEVENT
BEGIN:VEVENT
DTSTART;TZID=America/New_York:20241208T110000
DTEND;TZID=America/New_York:20241208T140000
DTSTAMP:20260425T063315
CREATED:20241030T122809Z
LAST-MODIFIED:20241119T134903Z
UID:10026818-1733655600-1733666400@cliftonclub.com
SUMMARY:Santa Brunch
DESCRIPTION:More information coming soon!
URL:https://cliftonclub.com/event/santa-brunch-2024/
ATTACH;FMTTYPE=image/jpeg:https://cliftonclub.com/wp-content/uploads/2017/11/santa-retro.jpg
END:VEVENT
BEGIN:VEVENT
DTSTART;TZID=America/New_York:20241211T170000
DTEND;TZID=America/New_York:20241211T210000
DTSTAMP:20260425T063315
CREATED:20241119T134101Z
LAST-MODIFIED:20241119T134101Z
UID:10026836-1733936400-1733950800@cliftonclub.com
SUMMARY:TCC Family Night
DESCRIPTION:Bring your kids to TCC to enjoy sweet treats and $2 off all kids meals!
URL:https://cliftonclub.com/event/tcc-family-night-dec-11/
END:VEVENT
BEGIN:VEVENT
DTSTART;TZID=America/New_York:20241212T170000
DTEND;TZID=America/New_York:20241212T210000
DTSTAMP:20260425T063315
CREATED:20241119T134202Z
LAST-MODIFIED:20241119T134202Z
UID:10026838-1734022800-1734037200@cliftonclub.com
SUMMARY:Prime Rib Night
DESCRIPTION:Prime Rib Night is one of our most popular nights\, and the TCC Kitchen Team does an awesome job at cooking up some great cuts of meat along with all the accompaniments! Make sure you get your reservations in soon\, either online here or by calling (216) 521-3051!
URL:https://cliftonclub.com/event/prime-rib-night-dec-2024/
END:VEVENT
BEGIN:VEVENT
DTSTART;TZID=America/New_York:20241213T170000
DTEND;TZID=America/New_York:20241213T190000
DTSTAMP:20260425T063315
CREATED:20241119T134405Z
LAST-MODIFIED:20241119T134513Z
UID:10026849-1734109200-1734116400@cliftonclub.com
SUMMARY:Happy Hour + Live Music!
DESCRIPTION:Join us for Happy Hour at TCC from 5-7pm with Live Music!
URL:https://cliftonclub.com/event/happy-hour-live-music-dec-2024/2024-12-13/
END:VEVENT
BEGIN:VEVENT
DTSTART;VALUE=DATE:20241214
DTEND;VALUE=DATE:20241215
DTSTAMP:20260425T063315
CREATED:20241119T134427Z
LAST-MODIFIED:20241119T134427Z
UID:10026847-1734134400-1734220799@cliftonclub.com
SUMMARY:Club Closed for Member Dining
DESCRIPTION:
URL:https://cliftonclub.com/event/closed-dec-14-2024/
END:VEVENT
BEGIN:VEVENT
DTSTART;TZID=America/New_York:20241215T110000
DTEND;TZID=America/New_York:20241215T140000
DTSTAMP:20260425T063315
CREATED:20241119T133747Z
LAST-MODIFIED:20241119T133747Z
UID:10026822-1734260400-1734271200@cliftonclub.com
SUMMARY:Sunday Brunch
DESCRIPTION:
URL:https://cliftonclub.com/event/sunday-brunch-december-2024/2024-12-15/
END:VEVENT
BEGIN:VEVENT
DTSTART;TZID=America/New_York:20241215T170000
DTEND;TZID=America/New_York:20241215T200000
DTSTAMP:20260425T063315
CREATED:20241119T133817Z
LAST-MODIFIED:20241119T133843Z
UID:10026828-1734282000-1734292800@cliftonclub.com
SUMMARY:Sunday Dinner
DESCRIPTION:
URL:https://cliftonclub.com/event/sunday-dinner-december-2024/2024-12-15/
END:VEVENT
BEGIN:VEVENT
DTSTART;TZID=America/New_York:20241218T170000
DTEND;TZID=America/New_York:20241218T210000
DTSTAMP:20260425T063315
CREATED:20241119T133949Z
LAST-MODIFIED:20241119T134023Z
UID:10026835-1734541200-1734555600@cliftonclub.com
SUMMARY:TCC Family Night with Flower Clown the Balloon Twister!
DESCRIPTION:Bring your kids to TCC to enjoy sweet treats and $2 off all kids meals…plus Flower Clown the balloon twister!
URL:https://cliftonclub.com/event/tcc-family-night-with-flower-clown-the-balloon-twister/2024-12-18/
END:VEVENT
BEGIN:VEVENT
DTSTART;TZID=America/New_York:20241219T170000
DTEND;TZID=America/New_York:20241219T210000
DTSTAMP:20260425T063315
CREATED:20241119T134241Z
LAST-MODIFIED:20241119T134241Z
UID:10026839-1734627600-1734642000@cliftonclub.com
SUMMARY:Tapas Night
DESCRIPTION:Stop in to TCC on Thursday\, December 19th to enjoy some delicious Tapas! So you don’t miss out\, make reservations by phone or click this link to make them online!
URL:https://cliftonclub.com/event/tapas-night-dec-2024/
END:VEVENT
BEGIN:VEVENT
DTSTART;TZID=America/New_York:20241220T180000
DTEND;TZID=America/New_York:20241220T213000
DTSTAMP:20260425T063315
CREATED:20241119T134655Z
LAST-MODIFIED:20241119T134655Z
UID:10026853-1734717600-1734730200@cliftonclub.com
SUMMARY:TCC Christmas Cheer Holiday Party
DESCRIPTION:Join us at TCC on Friday\, December 20th for our Christmas Cheer Happy Hour! Enjoy light hors d’oeurves\, holiday spirits and LIVE Music! \nTCC Member only event ~ Reservations required ~ Two guests per member reservation  \nOpen seating in the Pub & Dining room ~ For reservations\, contact the Pub at 216.521.3051 or cliftonclub@cliftonclub.com or make reservations online.
URL:https://cliftonclub.com/event/tcc-christmas-cheer-holiday-party/
END:VEVENT
BEGIN:VEVENT
DTSTART;TZID=America/New_York:20241221T170000
DTEND;TZID=America/New_York:20241221T190000
DTSTAMP:20260425T063315
CREATED:20241119T134405Z
LAST-MODIFIED:20241119T134513Z
UID:10026850-1734800400-1734807600@cliftonclub.com
SUMMARY:Happy Hour + Live Music!
DESCRIPTION:Join us for Happy Hour at TCC from 5-7pm with Live Music!
URL:https://cliftonclub.com/event/happy-hour-live-music-dec-2024/2024-12-21/
END:VEVENT
BEGIN:VEVENT
DTSTART;TZID=America/New_York:20241222T170000
DTEND;TZID=America/New_York:20241222T210000
DTSTAMP:20260425T063315
CREATED:20241030T122851Z
LAST-MODIFIED:20241119T134855Z
UID:10026819-1734886800-1734901200@cliftonclub.com
SUMMARY:TCC Horse & Carriage Dinner
DESCRIPTION:More information coming soon!
URL:https://cliftonclub.com/event/tcc-horse-carriage-dinner-2024/
END:VEVENT
BEGIN:VEVENT
DTSTART;TZID=America/New_York:20241226T170000
DTEND;TZID=America/New_York:20241226T210000
DTSTAMP:20260425T063315
CREATED:20241119T134259Z
LAST-MODIFIED:20241119T134259Z
UID:10026840-1735232400-1735246800@cliftonclub.com
SUMMARY:Taco Night
DESCRIPTION:Who doesn’t love tacos? Head on up to enjoy some great tacos prepared by TCC kitchen crew! Make reservations online here or by calling (216) 521-3051.
URL:https://cliftonclub.com/event/taco-night-dec-2024/
END:VEVENT
BEGIN:VEVENT
DTSTART;TZID=America/New_York:20241227T170000
DTEND;TZID=America/New_York:20241227T190000
DTSTAMP:20260425T063315
CREATED:20241119T134405Z
LAST-MODIFIED:20241119T134513Z
UID:10026851-1735318800-1735326000@cliftonclub.com
SUMMARY:Happy Hour + Live Music!
DESCRIPTION:Join us for Happy Hour at TCC from 5-7pm with Live Music!
URL:https://cliftonclub.com/event/happy-hour-live-music-dec-2024/2024-12-27/
END:VEVENT
BEGIN:VEVENT
DTSTART;TZID=America/New_York:20241228T020000
DTEND;TZID=America/New_York:20241228T020000
DTSTAMP:20260425T063315
CREATED:20241119T134810Z
LAST-MODIFIED:20241119T134810Z
UID:10026855-1735351200-1735351200@cliftonclub.com
SUMMARY:Chef Specials + Live Music!
DESCRIPTION:Make your reservations now to enjoy some tasty culinary preparations from the TCC kitchen team and enjoy some live music! Reservations can be made online here or by calling (216) 521-3051.
URL:https://cliftonclub.com/event/chef-specials-live-music-dec-2024/
END:VEVENT
BEGIN:VEVENT
DTSTART;TZID=America/New_York:20241229T110000
DTEND;TZID=America/New_York:20241229T140000
DTSTAMP:20260425T063315
CREATED:20241119T133747Z
LAST-MODIFIED:20241119T133747Z
UID:10026823-1735470000-1735480800@cliftonclub.com
SUMMARY:Sunday Brunch
DESCRIPTION:
URL:https://cliftonclub.com/event/sunday-brunch-december-2024/2024-12-29/
END:VEVENT
BEGIN:VEVENT
DTSTART;TZID=America/New_York:20241229T170000
DTEND;TZID=America/New_York:20241229T200000
DTSTAMP:20260425T063315
CREATED:20241119T133817Z
LAST-MODIFIED:20241119T133843Z
UID:10026829-1735491600-1735502400@cliftonclub.com
SUMMARY:Sunday Dinner
DESCRIPTION:
URL:https://cliftonclub.com/event/sunday-dinner-december-2024/2024-12-29/
END:VEVENT
BEGIN:VEVENT
DTSTART;TZID=America/New_York:20241231T170000
DTEND;TZID=America/New_York:20241231T210000
DTSTAMP:20260425T063315
CREATED:20241119T134725Z
LAST-MODIFIED:20241119T134725Z
UID:10026854-1735664400-1735678800@cliftonclub.com
SUMMARY:New Years Eve Dinner
DESCRIPTION:Details coming soon!
URL:https://cliftonclub.com/event/new-years-eve-dinner-2024/
END:VEVENT
BEGIN:VEVENT
DTSTART;VALUE=DATE:20250101
DTEND;VALUE=DATE:20250116
DTSTAMP:20260425T063315
CREATED:20241227T154840Z
LAST-MODIFIED:20250103T165357Z
UID:10026856-1735689600-1736985599@cliftonclub.com
SUMMARY:Club Closed for Annual Maintenance
DESCRIPTION:
URL:https://cliftonclub.com/event/club-closed-for-annual-maintenance-2025/
END:VEVENT
BEGIN:VEVENT
DTSTART;TZID=America/New_York:20250116T170000
DTEND;TZID=America/New_York:20250116T210000
DTSTAMP:20260425T063315
CREATED:20250103T160636Z
LAST-MODIFIED:20250103T161915Z
UID:10026858-1737046800-1737061200@cliftonclub.com
SUMMARY:Chef's Specials
DESCRIPTION:Chef Mel and his kitchen team are excited to be back in action and in addition to our regular menus\, they will have some exciting Chef’s Specials for your enjoyment!
URL:https://cliftonclub.com/event/chefs-specials-jan2025/
END:VEVENT
END:VCALENDAR